BEGIN:VCALENDAR
VERSION:2.0
PRODID:-//DDS//Events//EN
CALSCALE:GREGORIAN
METHOD:PUBLISH
BEGIN:VEVENT
UID:57618@www.dds.ca.gov
SUMMARY:EVV Office Hours: EVV Back to Basics (Spanish Office Hour)
DTSTART:20260506T210000Z
DTEND:20260506T220000Z
LOCATION:Zoom
DESCRIPTION:EVV Office Hours: EVV Back to Basics (Spanish Office Hour)
URL:https://www.dds.ca.gov/dds-events/evv-office-hours-evv-back-to-basics-spanish-office-hour/
END:VEVENT
END:VCALENDAR
