BEGIN:VCALENDAR
VERSION:2.0
PRODID:-//DDS//Events//EN
CALSCALE:GREGORIAN
METHOD:PUBLISH
BEGIN:VEVENT
UID:57624@www.dds.ca.gov
SUMMARY:EVV Office Hours: EVV Updates
DTSTART:20260513T210000Z
DTEND:20260513T220000Z
LOCATION:Zoom
DESCRIPTION:EVV Office Hours: EVV Updates
URL:https://www.dds.ca.gov/dds-events/evv-office-hours-evv-updates/
END:VEVENT
END:VCALENDAR
