BEGIN:VCALENDAR
VERSION:2.0
PRODID:-//DDS//Events//EN
CALSCALE:GREGORIAN
METHOD:PUBLISH
BEGIN:VEVENT
UID:57836@www.dds.ca.gov
SUMMARY:Self﻿-Determination Program (SDP): Orientation Update
DTSTART:20260429T200000Z
DTEND:20260429T210000Z
LOCATION:Zoom
DESCRIPTION:You are invited to join a webinar on Wednesday\, April 29\, 2026\, to review the directive regarding updates to the Self-Determination Program (SDP) Orientation. Completion of the SDP Orientation is required before someone can participate in SDP. The SDP Orientation has been updated with information designed to help individuals make an informed decision about whether... View Article
URL:https://www.dds.ca.gov/dds-events/self-determination-program-sdp-orientation-update/
END:VEVENT
END:VCALENDAR
